BEGIN:VCALENDAR
VERSION:2.0
PRODID:-//Centar za održivi razvoj lokalne zajednice općine Lovas - ECPv5.10.1//NONSGML v1.0//EN
CALSCALE:GREGORIAN
METHOD:PUBLISH
X-WR-CALNAME:Centar za održivi razvoj lokalne zajednice općine Lovas
X-ORIGINAL-URL:https://www.cor-biskupija.org/home
X-WR-CALDESC:Događaji za Centar za održivi razvoj lokalne zajednice općine Lovas
BEGIN:VTIMEZONE
TZID:Europe/Paris
BEGIN:DAYLIGHT
TZOFFSETFROM:+0100
TZOFFSETTO:+0200
TZNAME:CEST
DTSTART:20220327T010000
END:DAYLIGHT
BEGIN:STANDARD
TZOFFSETFROM:+0200
TZOFFSETTO:+0100
TZNAME:CET
DTSTART:20221030T010000
END:STANDARD
END:VTIMEZONE
BEGIN:VEVENT
DTSTART;TZID=Europe/Paris:20220425T110000
DTEND;TZID=Europe/Paris:20220425T130000
DTSTAMP:20260422T133655
CREATED:20220414T132935Z
LAST-MODIFIED:20220414T132935Z
UID:3533-1650884400-1650891600@www.cor-biskupija.org
SUMMARY:Gostujuća radionica: "Korak dalje" (stariji od 65 godina)
DESCRIPTION:
URL:https://www.cor-biskupija.org/home/aktivnost/gostujuca-radionica-korak-dalje-stariji-od-65-godina/
LOCATION:Centar kompetencija\, Ljudevita Gaja 2\, Lovas\, 32237\, Croatia (Local Name: Hrvatska)
CATEGORIES:Aktivnosti
END:VEVENT
END:VCALENDAR